BEGIN:VCALENDAR
VERSION:2.0
PRODID:-//AudioTheme 2.3.1
BEGIN:VEVENT
UID:urn:uuid:7ef38b5f-c90b-4754-b6db-4cd52ad6d477
URL:https://davidmilazzo.com/shows/zooberries/
DTSTART;TZID=GMT:20190704T020000
SUMMARY:Zooberries
LOCATION:Rockwood Music Hall\, 196 Allen St\, New York\, NY\, United States\, 10002
END:VEVENT
END:VCALENDAR
