BEGIN:VCALENDAR
VERSION:2.0
PRODID:-//AudioTheme 2.3.1
BEGIN:VEVENT
UID:urn:uuid:5a82d26f-06bb-47ff-90f7-61246d31daa2
URL:https://davidmilazzo.com/shows/vandojam/
DTSTART;TZID=GMT:20190808T010000
SUMMARY:Vandojam
LOCATION:Zinc Bar\, 82 W 3rd St\, New York\, NY\, United States\, 10012
END:VEVENT
END:VCALENDAR
