BEGIN:VCALENDAR
VERSION:2.0
PRODID:-//AudioTheme 2.3.1
BEGIN:VEVENT
UID:urn:uuid:b3f79fc4-c6c3-491a-8bad-2e432cf42619
URL:https://davidmilazzo.com/shows/vail-jazz-alumni-quintet/
DTSTART;VALUE=DATE:20190829
SUMMARY:Vail Jazz Alumni Quintet
LOCATION:Vail Jazz Festival\, Vail Square 675 Lionshead Place\, Vail\, CO\, United States\, 81657
END:VEVENT
END:VCALENDAR
