BEGIN:VCALENDAR
VERSION:2.0
PRODID:-//AudioTheme 2.3.1
BEGIN:VEVENT
UID:urn:uuid:e08455b9-cecd-4bbc-a58a-d5625e976b5b
URL:https://davidmilazzo.com/shows/vail-jazz-alumni-quintet-4/
DTSTART;VALUE=DATE:20190901
SUMMARY:Vail Jazz Alumni Quintet
LOCATION:Vail Jazz Festival\, Vail Square 675 Lionshead Place\, Vail\, CO\, United States\, 81657
END:VEVENT
END:VCALENDAR
