BEGIN:VCALENDAR
VERSION:2.0
PRODID:-//AudioTheme 2.3.1
BEGIN:VEVENT
UID:urn:uuid:1dd80511-9acc-440a-bb5d-d059b09488fb
URL:https://davidmilazzo.com/shows/vail-jazz-alumni-quintet-3/
DTSTART;VALUE=DATE:20190831
SUMMARY:Vail Jazz Alumni Quintet
LOCATION:Vail Jazz Festival\, Vail Square 675 Lionshead Place\, Vail\, CO\, United States\, 81657
END:VEVENT
END:VCALENDAR
