BEGIN:VCALENDAR
VERSION:2.0
PRODID:-//AudioTheme 2.3.1
BEGIN:VEVENT
UID:urn:uuid:c4e076fd-5b75-4c07-962d-bce8f81309d2
URL:https://davidmilazzo.com/shows/vail-jazz-alumni-quintet-2/
DTSTART;VALUE=DATE:20190830
SUMMARY:Vail Jazz Alumni Quintet
LOCATION:Vail Jazz Festival\, Vail Square 675 Lionshead Place\, Vail\, CO\, United States\, 81657
END:VEVENT
END:VCALENDAR
