BEGIN:VCALENDAR
VERSION:2.0
PRODID:-//AudioTheme 2.3.1
BEGIN:VEVENT
UID:urn:uuid:9a510a26-8c26-434c-9709-6360eb3e3664
URL:https://davidmilazzo.com/shows/strictly-sinatra-7/
DTSTART;TZID=GMT:20190726T230000
SUMMARY:Strictly Sinatra
LOCATION:The Cutting Room\, 44 E 32nd St\, New York\, NY\, United States\, 10016
END:VEVENT
END:VCALENDAR
