BEGIN:VCALENDAR
VERSION:2.0
PRODID:-//AudioTheme 2.3.1
BEGIN:VEVENT
UID:urn:uuid:d7745c76-aa6b-4630-b284-1182c4644cc0
URL:https://davidmilazzo.com/shows/strictly-sinatra-6/
DTSTART;TZID=GMT:20190816T013000
SUMMARY:Strictly Sinatra
LOCATION:Feinstein's/54 Below\, 254 W 54th St\, New York\, NY\, United States\, 10019
END:VEVENT
END:VCALENDAR
