BEGIN:VCALENDAR
VERSION:2.0
PRODID:-//AudioTheme 2.3.1
BEGIN:VEVENT
UID:urn:uuid:7d3712e3-cd84-47e3-95e9-5c60971a6293
URL:https://davidmilazzo.com/shows/silver-arrow-band-showcase-4/
DTSTART;TZID=GMT:20220222T010000
SUMMARY:Silver Arrow Band Showcase
LOCATION:DROM\, 85 Avenue A\, New York\, NY 10009\, New York\, NY\, United States\, 10009
END:VEVENT
END:VCALENDAR
