BEGIN:VCALENDAR
VERSION:2.0
PRODID:-//AudioTheme 2.3.1
BEGIN:VEVENT
UID:urn:uuid:fb523633-825d-481b-827c-46122478c68d
URL:https://davidmilazzo.com/shows/rita-hayworth-the-heat-is-on-starring-quinn-lemley/
DTSTART;TZID=GMT:20260219T230000
SUMMARY:Rita Hayworth: The Heat Is On! Starring Quinn Lemley
LOCATION:Triad Theater\, 158 W 72nd St\, New York\, NY\, USA\, 10023
END:VEVENT
END:VCALENDAR
