BEGIN:VCALENDAR
VERSION:2.0
PRODID:-//AudioTheme 2.3.1
BEGIN:VEVENT
UID:urn:uuid:7fae886e-2660-419c-b961-6d2f36d4c55e
URL:https://davidmilazzo.com/shows/rita-hayworth-the-heat-is-on-starring-quinn-lemley-2/
DTSTART;TZID=GMT:20260318T220000
SUMMARY:Rita Hayworth: The Heat Is On! Starring Quinn Lemley
LOCATION:Triad Theater\, 158 W 72nd St\, New York\, NY\, USA\, 10023
END:VEVENT
END:VCALENDAR
