BEGIN:VCALENDAR
VERSION:2.0
PRODID:-//AudioTheme 2.3.1
BEGIN:VEVENT
UID:urn:uuid:b74c0a65-50a4-4116-8c1b-cc3482c67b20
URL:https://davidmilazzo.com/shows/joshua-levinson-group/
DTSTART;TZID=GMT:20190728T223000
SUMMARY:Joshua Levinson Group
LOCATION:Rockwood Music Hall\, 196 Allen St\, New York\, NY\, United States\, 10002
END:VEVENT
END:VCALENDAR
