BEGIN:VCALENDAR
VERSION:2.0
PRODID:-//AudioTheme 2.3.1
BEGIN:VEVENT
UID:urn:uuid:2f932c0a-8f3e-4fab-9f4e-ea72dec85476
URL:https://davidmilazzo.com/shows/javier-nero-jazz-orchestra/
DTSTART;VALUE=DATE:20190729
SUMMARY:Javier Nero Jazz Orchestra
LOCATION:The Slope Lounge and Restaurant\, 837 Union St\, Brooklyn\, NY\, United States\, 11215
END:VEVENT
END:VCALENDAR
