BEGIN:VCALENDAR
VERSION:2.0
PRODID:-//AudioTheme 2.3.1
BEGIN:VEVENT
UID:urn:uuid:d8c6b4f6-4430-4b40-9e3a-9f198d5a18f5
URL:https://davidmilazzo.com/shows/dmila220-live-at-the-delancey/
DTSTART;TZID=GMT:20260329T010000
SUMMARY:DMILA220 @ The Delancey
DESCRIPTION:$10 CASH COVER AT DOOR
LOCATION:The Delancey\, 168 Delancey St\, New York\, NY\, USA\, 10002
END:VEVENT
END:VCALENDAR
